BEGIN:VCALENDAR
VERSION:2.0
PRODID:-//Motorclub Zeeuws Vlaanderen - ECPv6.15.14//NONSGML v1.0//EN
CALSCALE:GREGORIAN
METHOD:PUBLISH
X-ORIGINAL-URL:https://www.mczv.nl
X-WR-CALDESC:Evenementen voor Motorclub Zeeuws Vlaanderen
REFRESH-INTERVAL;VALUE=DURATION:PT1H
X-Robots-Tag:noindex
X-PUBLISHED-TTL:PT1H
BEGIN:VTIMEZONE
TZID:Europe/Amsterdam
BEGIN:DAYLIGHT
TZOFFSETFROM:+0100
TZOFFSETTO:+0200
TZNAME:CEST
DTSTART:20250330T010000
END:DAYLIGHT
BEGIN:STANDARD
TZOFFSETFROM:+0200
TZOFFSETTO:+0100
TZNAME:CET
DTSTART:20251026T010000
END:STANDARD
BEGIN:DAYLIGHT
TZOFFSETFROM:+0100
TZOFFSETTO:+0200
TZNAME:CEST
DTSTART:20260329T010000
END:DAYLIGHT
BEGIN:STANDARD
TZOFFSETFROM:+0200
TZOFFSETTO:+0100
TZNAME:CET
DTSTART:20261025T010000
END:STANDARD
BEGIN:DAYLIGHT
TZOFFSETFROM:+0100
TZOFFSETTO:+0200
TZNAME:CEST
DTSTART:20270328T010000
END:DAYLIGHT
BEGIN:STANDARD
TZOFFSETFROM:+0200
TZOFFSETTO:+0100
TZNAME:CET
DTSTART:20271031T010000
END:STANDARD
END:VTIMEZONE
BEGIN:VEVENT
DTSTART;TZID=Europe/Amsterdam:20260503T090000
DTEND;TZID=Europe/Amsterdam:20260503T180000
DTSTAMP:20260423T021322
CREATED:20200202T104721Z
LAST-MODIFIED:20260206T140811Z
UID:913-1777798800-1777831200@www.mczv.nl
SUMMARY:13e MZV Lenterit (openrit)
DESCRIPTION:De Lenterit is een mooie wegroute door Zeeuws Vlaanderen. \nDe route is beschikbaar voor Garmin en TomTom(GPX) navigatiesystemen\, de route is niet bepijld. \nLengte:          180Km\nInschrijven:     9:00 – 12:00 uur \nDit is een evenement waar ook niet leden aan kunnen deelnemen
URL:https://www.mczv.nl/event/12e-mzv-lenterit/
LOCATION:van milstraat 2 Sas van Gent\, van Milstraat 2\, Sas van Gent\, Nederland
END:VEVENT
BEGIN:VEVENT
DTSTART;TZID=Europe/Amsterdam:20260522T200000
DTEND;TZID=Europe/Amsterdam:20260522T200000
DTSTAMP:20260423T021322
CREATED:20181229T230042Z
LAST-MODIFIED:20260121T211144Z
UID:1034-1779480000-1779480000@www.mczv.nl
SUMMARY:Clubavond mei
DESCRIPTION:Normaal hebben we onze clubavond op de laatste vrijdag van de maand met uitzondering van de maand december. Vanwege het Luxemburg weekend is de clubavond van mei een week eerder. \nDe clubavonden worden georganiseerd vanuit St. Albert in Sas van Gent. \nTijdens een clubavond zijn leden en motorrijders die lid willen worden van onze club welkom.
URL:https://www.mczv.nl/event/clubavond-5/
LOCATION:St. Albert Sas van Gent\, van Milstraat 2\, Sas van Gent\, 4551TD\, Nederland
END:VEVENT
BEGIN:VEVENT
DTSTART;TZID=Europe/Amsterdam:20260528T080000
DTEND;TZID=Europe/Amsterdam:20260531T170000
DTSTAMP:20260423T021322
CREATED:20230217T204455Z
LAST-MODIFIED:20260121T212141Z
UID:2196-1779955200-1780246800@www.mczv.nl
SUMMARY:Club Weekend Luxemburg
DESCRIPTION:Van 28 mei t/m 31 mei  organiseren we een clubweekend Luxemburg bij onze sponsor Camping Val d’Or in Enscherange. \nHet is mogelijk om te overnachten op de camping of in Hotel \nLet op\, dit is een clubactiviteit\, dus enkel voor leden! \n 
URL:https://www.mczv.nl/event/weekend-luxemburg-club/
LOCATION:Camping Val d’Or\, Um Gaertchen 2\, Enscherange\, L-9747\, Luxemburg
END:VEVENT
BEGIN:VEVENT
DTSTART;VALUE=DATE:20260606
DTEND;VALUE=DATE:20260608
DTSTAMP:20260423T021322
CREATED:20181229T224946Z
LAST-MODIFIED:20260128T105913Z
UID:1028-1780707600-1780793999@www.mczv.nl
SUMMARY:MotorTotaal Toerrit
DESCRIPTION:Op zaterdag 6 juni organiseert MZV i.s.m. MotorTotaal de MotorTotaal toerrit.\nDeze rit wordt ter beschikking gesteld als GPX voor Garmin en TomTom navigatiesystemen maar kan ook achter een voorrijder verreden worden voor degenen die niet de beschikking hebben over een navigatiesysteem. De groepen vertrekken tussen 09:00 en 10:30 uur om de 15 minuten. \n\nLengte: 150 KM\nBeschikbaar voor Garmin en TomTom (GPX) navigatiesystemen\nInschrijven vanaf 09:00 uur\nStartlocatie: MotorTotaal\, Transportstraat 1 Terneuzen\nVertrek tussen 09:00 en 10:30 uur\, vanaf MotorTotaal\, Transportstraat 1 Terneuzen.\nwebsite: www.motortotaal.com 
URL:https://www.mczv.nl/event/motortotaal-toerrit/
LOCATION:MotorTotaal\, Transportstraat 1\, Terneuzen\, Nederland
END:VEVENT
BEGIN:VEVENT
DTSTART;TZID=Europe/Amsterdam:20260613T091500
DTEND;TZID=Europe/Amsterdam:20260613T170000
DTSTAMP:20260423T021322
CREATED:20181228T145007Z
LAST-MODIFIED:20260121T212839Z
UID:959-1781342100-1781370000@www.mczv.nl
SUMMARY:7e Vanguard en van Westen Gentlemenride
DESCRIPTION:Op 13 juni wordt door van Westen Mannen i.s.m. Vanguard en MZV voor de 7e maal een Gentlemenride georganiseerd. De Distinguished Gentleman’s Ride is een wereldwijde organisatie die zich inzet voor de strijd tegen prostaatkanker. \nVerzamelen op het plein in Zaamslag tussen 09:15 en 09:45 uur\, de start van de road tour is om 10:00 uur. \nDit is een evenement waar ook niet leden aan kunnen deelnemen.
URL:https://www.mczv.nl/event/5e-vanguard-en-van-westen-gentlemenride/
LOCATION:van Westen mannen\, Plein 10-11\, Zaamslag\, 4543BH\, Nederland
END:VEVENT
BEGIN:VEVENT
DTSTART;TZID=Europe/Amsterdam:20260620T210000
DTEND;TZID=Europe/Amsterdam:20260621T020000
DTSTAMP:20260423T021322
CREATED:20231028T115514Z
LAST-MODIFIED:20260310T140636Z
UID:2349-1781989200-1782007200@www.mczv.nl
SUMMARY:MZV Langste dag Nachtrit (openrit)
DESCRIPTION:Ervaar de Zeeuwse nacht tijdens deze unieke rit. \nlengte route 120 Km \nStart en inschrijven v.a. 21:00 uur – 23:30 uur \nVertrek: Café Wilhelmina\, Terneuzen
URL:https://www.mczv.nl/event/mzv-langste-dag-nachtrit/
LOCATION:cafe Wilhelmina\, Korte Kerkstraat 17\, Terneuzen\, 4531CL\, Netherlands
END:VEVENT
BEGIN:VEVENT
DTSTART;TZID=Europe/Amsterdam:20260626T200000
DTEND;TZID=Europe/Amsterdam:20260626T200000
DTSTAMP:20260423T021322
CREATED:20231029T150157Z
LAST-MODIFIED:20260121T213036Z
UID:2382-1782504000-1782504000@www.mczv.nl
SUMMARY:Clubavond juni
DESCRIPTION:We hebben onze clubavond op de laatste vrijdag van de maand. \nDe clubavonden worden georganiseerd vanuit St. Albert in Sas van Gent. \nTijdens een clubavond zijn leden en motorrijders die lid willen worden van onze club welkom.
URL:https://www.mczv.nl/event/clubavond-juni/
LOCATION:St. Albert Sas van Gent\, van Milstraat 2\, Sas van Gent\, 4551TD\, Nederland
END:VEVENT
BEGIN:VEVENT
DTSTART;TZID=Europe/Amsterdam:20260710T070000
DTEND;TZID=Europe/Amsterdam:20260713T180000
DTSTAMP:20260423T021322
CREATED:20260121T213918Z
LAST-MODIFIED:20260121T214420Z
UID:2796-1783666800-1783965600@www.mczv.nl
SUMMARY:Clubweekend Elzas
DESCRIPTION:Van 10 juli t/m 13 juli  organiseren we een clubweekend in de Elzas. \nIn de omgeving hebben we diverse mooie routes beschikbaar die verlopen in de Elzas streek\, het Duitse Reinland en het Zwarte Woud. \nWe bieden deze reis aan op basis van halfpension (ontbijt en diner). Het ontbijt is een buffet\, het groepsdiner wordt verzorgd door het Hotel en is gebaseerd op de keuze van de chef. Het is niet mogelijk om zelf keuzes te maken. De drankjes zijn voor eigen rekening en zijn niet bij de prijs inbegrepen. \nWe verblijven in:\nHôtel Restaurant Le Cleebourg\nRoute du Vin\n67160 Rott\nFrankrijk \nDe boeking wordt door MZV verzorgd.
URL:https://www.mczv.nl/event/clubweekend-elzas/
LOCATION:Hôtel Restaurant Le Cleebourg\, Route du Vin\, Rott\, 67160\, France
END:VEVENT
BEGIN:VEVENT
DTSTART;TZID=Europe/Amsterdam:20260726T090000
DTEND;TZID=Europe/Amsterdam:20260726T170000
DTSTAMP:20260423T021322
CREATED:20200723T173539Z
LAST-MODIFIED:20260121T214156Z
UID:1780-1785056400-1785085200@www.mczv.nl
SUMMARY:MZV Zomerrit (clubrit)
DESCRIPTION:Op zondag 26 juli organiseren we voor onze leden de MZV Zomerrit.\n\n\n\nDe route is 180 km lang\n\nDe route start bij de P&R van de Westerschelde tunnel\, waar we vertrekken om 09:00 uur. Vanuit Zeeuws Vlaanderen vertrekken we om 08:30 uur bij het busstation aan de sluizen in Terneuzen.
URL:https://www.mczv.nl/event/mzv-zomerrit/
LOCATION:P&R Westerscheldetunnel\, Westerscheldetunnel 1\, Borssele\, 4454 PD\, Netherlands
END:VEVENT
BEGIN:VEVENT
DTSTART;TZID=Europe/Amsterdam:20260731T200000
DTEND;TZID=Europe/Amsterdam:20260731T200000
DTSTAMP:20260423T021322
CREATED:20230217T205432Z
LAST-MODIFIED:20260121T214549Z
UID:2204-1785528000-1785528000@www.mczv.nl
SUMMARY:Clubavond juli
DESCRIPTION:We hebben onze clubavond op de laatste vrijdag van de maand. \nDe clubavonden worden georganiseerd vanuit St. Albert in Sas van Gent. \nTijdens een clubavond zijn leden en motorrijders die lid willen worden van onze club welkom.
URL:https://www.mczv.nl/event/clubavond-juli/
LOCATION:St. Albert Sas van Gent\, van Milstraat 2\, Sas van Gent\, 4551TD\, Nederland
END:VEVENT
BEGIN:VEVENT
DTSTART;TZID=Europe/Amsterdam:20260809T090000
DTEND;TZID=Europe/Amsterdam:20260809T170000
DTSTAMP:20260423T021322
CREATED:20241221T220856Z
LAST-MODIFIED:20260121T214712Z
UID:2630-1786266000-1786294800@www.mczv.nl
SUMMARY:de Thuisblijversrit (MZV clubrit)
DESCRIPTION:De 1e Thuisblijversrit. \nlengte: 180Km\nvertrektijd: 09:00 uur\nvertreklocatie: Keizer Karelplein Sas van Gent
URL:https://www.mczv.nl/event/de-thuisblijversrit-mzv-clubrit/
END:VEVENT
BEGIN:VEVENT
DTSTART;TZID=Europe/Amsterdam:20260828T200000
DTEND;TZID=Europe/Amsterdam:20260828T200000
DTSTAMP:20260423T021322
CREATED:20230217T205159Z
LAST-MODIFIED:20260121T214820Z
UID:2202-1787947200-1787947200@www.mczv.nl
SUMMARY:Clubavond augustus
DESCRIPTION:We hebben onze clubavond op de laatste vrijdag van de maand. \nDe clubavonden worden georganiseerd vanuit St. Albert in Sas van Gent. \nTijdens een clubavond zijn leden en motorrijders die lid willen worden van onze club welkom. \n 
URL:https://www.mczv.nl/event/clubavond-avondrit-en-bbq-juni/
LOCATION:St. Albert Sas van Gent\, van Milstraat 2\, Sas van Gent\, 4551TD\, Nederland
END:VEVENT
BEGIN:VEVENT
DTSTART;TZID=Europe/Amsterdam:20260912T090000
DTEND;TZID=Europe/Amsterdam:20260912T120000
DTSTAMP:20260423T021322
CREATED:20200202T110800Z
LAST-MODIFIED:20260121T215026Z
UID:1081-1789203600-1789214400@www.mczv.nl
SUMMARY:13e Gilderit Sluiskil (openrit)
DESCRIPTION:lengte:           180 Km\nInschrijven: vanaf 09:00 – 11:30 uur in de feesttent \n  \n 
URL:https://www.mczv.nl/event/13e-gilderit-sluiskil/
LOCATION:Gildefeesten Sluiskil\, Minister Lelyplein\, Sluiskil\, Nederland
END:VEVENT
BEGIN:VEVENT
DTSTART;TZID=Europe/Amsterdam:20260925T200000
DTEND;TZID=Europe/Amsterdam:20260925T200000
DTSTAMP:20260423T021322
CREATED:20241221T213644Z
LAST-MODIFIED:20260121T220339Z
UID:2608-1790366400-1790366400@www.mczv.nl
SUMMARY:Clubavond september
DESCRIPTION:We hebben onze clubavond op de laatste vrijdag van de maand met uitzondering van de maand december. \nDe clubavonden worden georganiseerd vanuit St. Albert in Sas van Gent. Tijdens een clubavond zijn leden en motorrijders die lid willen worden van onze club welkom.
URL:https://www.mczv.nl/event/clubavond-januari-2/
LOCATION:St. Albert Sas van Gent\, van Milstraat 2\, Sas van Gent\, 4551TD\, Nederland
END:VEVENT
BEGIN:VEVENT
DTSTART;TZID=Europe/Amsterdam:20260927T090000
DTEND;TZID=Europe/Amsterdam:20260928T180000
DTSTAMP:20260423T021322
CREATED:20200203T111656Z
LAST-MODIFIED:20260121T215621Z
UID:1085-1790499600-1790618400@www.mczv.nl
SUMMARY:42e MZV Diekentoer (openrit)
DESCRIPTION:Op 27 september organiseren we voor de 42ste keer de MZV “DIEKENTOER”  \nEr kan een wegroute gereden worden met een lengte van 180Km.  \nLet op\, voorgaande jaren organiseerden we de Diekentoer over een heel weekend\, dit jaar organiseren we de Diekentoer alleen op zondag. \n  \n 
URL:https://www.mczv.nl/event/42e-diekentoer/
LOCATION:St. Albert Sas van Gent\, van Milstraat 2\, Sas van Gent\, 4551TD\, Nederland
END:VEVENT
BEGIN:VEVENT
DTSTART;TZID=Europe/Amsterdam:20261011T130000
DTEND;TZID=Europe/Amsterdam:20261011T170000
DTSTAMP:20260423T021322
CREATED:20240101T204919Z
LAST-MODIFIED:20260121T215730Z
UID:1704-1791723600-1791738000@www.mczv.nl
SUMMARY:Bonnefooirit (clubrit)
DESCRIPTION:Zomaar een ritje onze neus achterna. \nLengte:                100Km\nVertrektijd:        13:00 uur\nVertreklocatie: Terneuzen Busstation \n 
URL:https://www.mczv.nl/event/bonnefooirit-clubrit/
LOCATION:Busstation Terneuzen\, Terneuzen\, Zeeland\, 4542NP\, Nederland
END:VEVENT
BEGIN:VEVENT
DTSTART;TZID=Europe/Amsterdam:20261030T200000
DTEND;TZID=Europe/Amsterdam:20261030T233000
DTSTAMP:20260423T021322
CREATED:20231027T102930Z
LAST-MODIFIED:20260121T215913Z
UID:1095-1793390400-1793403000@www.mczv.nl
SUMMARY:Clubavond oktober
DESCRIPTION:We hebben onze clubavond op de laatste vrijdag van de maand met \nDe clubavonden worden georganiseerd vanuit St. Albert in Sas van Gent. \nTijdens een clubavond zijn leden en motorrijders die lid willen worden van onze club welkom. \n 
URL:https://www.mczv.nl/event/clubavond-8/
LOCATION:St. Albert Sas van Gent\, van Milstraat 2\, Sas van Gent\, 4551TD\, Nederland
END:VEVENT
BEGIN:VEVENT
DTSTART;TZID=Europe/Amsterdam:20261108T130000
DTEND;TZID=Europe/Amsterdam:20261108T170000
DTSTAMP:20260423T021322
CREATED:20181231T113358Z
LAST-MODIFIED:20260121T220018Z
UID:1097-1794142800-1794157200@www.mczv.nl
SUMMARY:MZV Kortepikkenrit (clubrit)
DESCRIPTION:lengte:                 100 Km\nVertrektijd:        13:00 uur\nVertreklocatie: Busstation Sluizen Terneuzen \n  \n 
URL:https://www.mczv.nl/event/mzv-kortepikkenrit/
LOCATION:Busstation Terneuzen\, Terneuzen\, Zeeland\, 4542NP\, Nederland
END:VEVENT
BEGIN:VEVENT
DTSTART;TZID=Europe/Amsterdam:20261115T100000
DTEND;TZID=Europe/Amsterdam:20261115T170000
DTSTAMP:20260423T021322
CREATED:20230217T203057Z
LAST-MODIFIED:20260121T220225Z
UID:2189-1794736800-1794762000@www.mczv.nl
SUMMARY:Weer het padje op allroadrit (clubrit)
DESCRIPTION:Zondag 15 november organiseren we onze clubleden allroadrit.\nDe lengte is 120 km en we vertrekken om 10.00 uur bij de Meeuw Rilland
URL:https://www.mczv.nl/event/het-padje-op-clubrit/
LOCATION:De Meeuw Rilland
END:VEVENT
BEGIN:VEVENT
DTSTART;TZID=Europe/Amsterdam:20261127T200000
DTEND;TZID=Europe/Amsterdam:20261127T233000
DTSTAMP:20260423T021322
CREATED:20200204T205609Z
LAST-MODIFIED:20260121T220313Z
UID:1709-1795809600-1795822200@www.mczv.nl
SUMMARY:Clubavond november
DESCRIPTION:We hebben onze clubavond op de laatste vrijdag van de maand.\nDe clubavonden worden georganiseerd vanuit St. Albert in Sas van Gent. \nTijdens een clubavond zijn leden en motorrijders die lid willen worden van onze club welkom. \n 
URL:https://www.mczv.nl/event/clubavond-2/
LOCATION:St. Albert Sas van Gent\, van Milstraat 2\, Sas van Gent\, 4551TD\, Nederland
END:VEVENT
BEGIN:VEVENT
DTSTART;TZID=Europe/Amsterdam:20261206T130000
DTEND;TZID=Europe/Amsterdam:20261206T170000
DTSTAMP:20260423T021322
CREATED:20181231T113806Z
LAST-MODIFIED:20260121T220445Z
UID:1099-1796562000-1796576400@www.mczv.nl
SUMMARY:Eindejaarsrit (clubrit)
DESCRIPTION:lengte:                100 Km\nVertrektijd:      13:00 uur.\nVertreklocatie: Terneuzen Busstation \n 
URL:https://www.mczv.nl/event/backup-mzv-kortepikkenrit/
LOCATION:Busstation Terneuzen\, Terneuzen\, Zeeland\, 4542NP\, Nederland
END:VEVENT
BEGIN:VEVENT
DTSTART;TZID=Europe/Amsterdam:20261212T200000
DTEND;TZID=Europe/Amsterdam:20261213T003000
DTSTAMP:20260423T021322
CREATED:20181231T114249Z
LAST-MODIFIED:20260121T220743Z
UID:1101-1797105600-1797121800@www.mczv.nl
SUMMARY:Jaarafsluiting 2026 (o.v.b)
DESCRIPTION:Op 12 december ronden we het seizoen 2025 af met ons eindejaarsfeest. \nleden en sponsoren zijn van harte welkom vanaf 20:00 uur\, met partner.\nEen beetje nakletsen\, vooruitkijken naar 2027 en vooral een gezellig samenzijn met (motor)vrienden en bekenden!
URL:https://www.mczv.nl/event/jaarafsluiting-2019/
END:VEVENT
END:VCALENDAR