BEGIN:VCALENDAR
VERSION:2.0
PRODID:-//Motorclub Zeeuws Vlaanderen - ECPv6.15.14//NONSGML v1.0//EN
CALSCALE:GREGORIAN
METHOD:PUBLISH
X-WR-CALNAME:Motorclub Zeeuws Vlaanderen
X-ORIGINAL-URL:https://www.mczv.nl
X-WR-CALDESC:Evenementen voor Motorclub Zeeuws Vlaanderen
REFRESH-INTERVAL;VALUE=DURATION:PT1H
X-Robots-Tag:noindex
X-PUBLISHED-TTL:PT1H
BEGIN:VTIMEZONE
TZID:Europe/Amsterdam
BEGIN:DAYLIGHT
TZOFFSETFROM:+0100
TZOFFSETTO:+0200
TZNAME:CEST
DTSTART:20250330T010000
END:DAYLIGHT
BEGIN:STANDARD
TZOFFSETFROM:+0200
TZOFFSETTO:+0100
TZNAME:CET
DTSTART:20251026T010000
END:STANDARD
BEGIN:DAYLIGHT
TZOFFSETFROM:+0100
TZOFFSETTO:+0200
TZNAME:CEST
DTSTART:20260329T010000
END:DAYLIGHT
BEGIN:STANDARD
TZOFFSETFROM:+0200
TZOFFSETTO:+0100
TZNAME:CET
DTSTART:20261025T010000
END:STANDARD
BEGIN:DAYLIGHT
TZOFFSETFROM:+0100
TZOFFSETTO:+0200
TZNAME:CEST
DTSTART:20270328T010000
END:DAYLIGHT
BEGIN:STANDARD
TZOFFSETFROM:+0200
TZOFFSETTO:+0100
TZNAME:CET
DTSTART:20271031T010000
END:STANDARD
END:VTIMEZONE
BEGIN:VEVENT
DTSTART;TZID=Europe/Amsterdam:20260315T090000
DTEND;TZID=Europe/Amsterdam:20260315T170000
DTSTAMP:20260423T093053
CREATED:20231029T143613Z
LAST-MODIFIED:20260206T122630Z
UID:2368-1773565200-1773594000@www.mczv.nl
SUMMARY:Van het padje af MotorTotaal
DESCRIPTION:In samenwerking met MotorTotaal organiseert MZV een allroadrit die open staat voor iedereen die met zijn allroad de normaal gebaande paden eens af wil gaan. \nDe route wordt verreden in een of meerdere groepen afhankelijk van de belangstelling. \nVerzamelen bij MotorTotaal vanaf 9:00 uur\, vertrek voor de rit om 10:00 uur \nlengte:                 170 Km\nVertrektijd:       10:00 uur.\nVertreklocatie: MotorTotaaal Terneuzen
URL:https://www.mczv.nl/event/motortotaal_allroadrit/
LOCATION:MotorTotaal\, Transportstraat 1\, Terneuzen\, Nederland
END:VEVENT
BEGIN:VEVENT
DTSTART;TZID=Europe/Amsterdam:20260308T090000
DTEND;TZID=Europe/Amsterdam:20260308T170000
DTSTAMP:20260423T093053
CREATED:20230217T202936Z
LAST-MODIFIED:20260206T122433Z
UID:2187-1772960400-1772989200@www.mczv.nl
SUMMARY:1e MZV Pannenkoekenrit (openrit)
DESCRIPTION:Zondag 8 maart organiseren we de 1e MZV Pannenkoekenrit. \nDe lengte is 125  km en inschrijven is mogelijk vanaf 09.00 uur bij ons clubhuis St. Albert in Sas van Gent. \nLet op\, dit is een openrit\, dus open voor iedere motorrijder die aan het einde van de winter een mooie rit wil doen door Zeeuws Vlaanderen. \nVoor iedere deelnemer serveren  we een lekkere Pannenkoek met suiker of stroop zolang de voorraad strekt.
URL:https://www.mczv.nl/event/1e_mzv_pannenkoekenrit-clubrit-mzv/
LOCATION:St. Albert Sas van Gent\, van Milstraat 2\, Sas van Gent\, 4551TD\, Nederland
END:VEVENT
BEGIN:VEVENT
DTSTART;TZID=Europe/Amsterdam:20260227T200000
DTEND;TZID=Europe/Amsterdam:20260228T000000
DTSTAMP:20260423T093053
CREATED:20230217T202306Z
LAST-MODIFIED:20260121T184604Z
UID:2182-1772222400-1772236800@www.mczv.nl
SUMMARY:Clubavond februari
DESCRIPTION:We hebben onze clubavond op de laatste vrijdag van de maand. \nDe clubavonden worden georganiseerd vanuit St. Albert in Sas van Gent. \nTijdens een clubavond zijn leden en motorrijders die lid willen worden van onze club welkom.
URL:https://www.mczv.nl/event/clubavond-februari/
LOCATION:St. Albert Sas van Gent\, van Milstraat 2\, Sas van Gent\, 4551TD\, Nederland
END:VEVENT
BEGIN:VEVENT
DTSTART;TZID=Europe/Amsterdam:20260219T080000
DTEND;TZID=Europe/Amsterdam:20260222T170000
DTSTAMP:20260423T093053
CREATED:20231029T143314Z
LAST-MODIFIED:20251130T215628Z
UID:2365-1771488000-1771779600@www.mczv.nl
SUMMARY:Motorbeurs Utrecht
DESCRIPTION:
URL:https://www.mczv.nl/event/motorbeurs-utrecht/
LOCATION:Jaarbeurs Utrecht\, Truus van Lierlaan\, Utrecht\, Utrecht\, Nederland
END:VEVENT
BEGIN:VEVENT
DTSTART;TZID=Europe/Amsterdam:20260208T130000
DTEND;TZID=Europe/Amsterdam:20260208T170000
DTSTAMP:20260423T093053
CREATED:20240201T205450Z
LAST-MODIFIED:20251130T215428Z
UID:982-1770555600-1770570000@www.mczv.nl
SUMMARY:MZV Snertrit (clubrit)
DESCRIPTION:Zondag 8 februari organiseren we de jaarlijkse MZV Snertrit.\nDe lengte is 100 km en we vertrekken om 13.00 uur bij ons clubgebouw St. Albert. \nLet op\, dit is een clubrit\, enkel voor leden en anderen die geïnteresseerd zijn in een lidmaatschap van onze club ter kennismaking.
URL:https://www.mczv.nl/event/mzv-snertrit/
LOCATION:St. Albert Sas van Gent\, van Milstraat 2\, Sas van Gent\, 4551TD\, Nederland
END:VEVENT
BEGIN:VEVENT
DTSTART;TZID=Europe/Amsterdam:20260130T200000
DTEND;TZID=Europe/Amsterdam:20260130T200000
DTSTAMP:20260423T093053
CREATED:20241221T212311Z
LAST-MODIFIED:20251130T220347Z
UID:2600-1769803200-1769803200@www.mczv.nl
SUMMARY:clubavond / ALV januari
DESCRIPTION:De clubavond van januari is een besloten clubavond\, tijdens deze avond is het tevens algemene leden vergadering van de club. \nWe hebben onze clubavonden op de laatste vrijdag van de maand met uitzondering van de maand december. \nDe clubavonden worden georganiseerd vanuit St. Albert in Sas van Gent. \n 
URL:https://www.mczv.nl/event/clubavond-februari-2/
LOCATION:St. Albert Sas van Gent\, van Milstraat 2\, Sas van Gent\, 4551TD\, Nederland
END:VEVENT
BEGIN:VEVENT
DTSTART;TZID=Europe/Amsterdam:20260111T130000
DTEND;TZID=Europe/Amsterdam:20260111T170000
DTSTAMP:20260423T093053
CREATED:20241201T140457Z
LAST-MODIFIED:20251130T221244Z
UID:2049-1768136400-1768150800@www.mczv.nl
SUMMARY:MZV Nieuwjaarsrit (clubrit)
DESCRIPTION:Zondag 11 januari organiseren we de jaarlijkse Nieuwjaarsrit gevolgd door een nieuwjaarsreceptie in St. Albert. \nDe lengte is 100 km en we vertrekken om 13.00 uur vanaf de parking bij de Skihal in Terneuzen. Na afloop nemen we een toast op het nieuwe jaar in ons clubgebouw St. Albert in Sas van Gent. \nLet op\, dit is een clubrit\, enkel voor leden en mensen die geïnteresseerd zijn in een lidmaatschap als kennismaking met de. club.
URL:https://www.mczv.nl/event/2049/
LOCATION:SnowWorld Terneuzen\, Zeelandlaan 3\, Terneuzen\, 4538 CA\, Netherlands
END:VEVENT
END:VCALENDAR