BEGIN:VCALENDAR
VERSION:2.0
PRODID:-//Motorclub Zeeuws Vlaanderen - ECPv6.15.14//NONSGML v1.0//EN
CALSCALE:GREGORIAN
METHOD:PUBLISH
X-WR-CALNAME:Motorclub Zeeuws Vlaanderen
X-ORIGINAL-URL:https://www.mczv.nl
X-WR-CALDESC:Evenementen voor Motorclub Zeeuws Vlaanderen
REFRESH-INTERVAL;VALUE=DURATION:PT1H
X-Robots-Tag:noindex
X-PUBLISHED-TTL:PT1H
BEGIN:VTIMEZONE
TZID:Europe/Amsterdam
BEGIN:DAYLIGHT
TZOFFSETFROM:+0100
TZOFFSETTO:+0200
TZNAME:CEST
DTSTART:20250330T010000
END:DAYLIGHT
BEGIN:STANDARD
TZOFFSETFROM:+0200
TZOFFSETTO:+0100
TZNAME:CET
DTSTART:20251026T010000
END:STANDARD
BEGIN:DAYLIGHT
TZOFFSETFROM:+0100
TZOFFSETTO:+0200
TZNAME:CEST
DTSTART:20260329T010000
END:DAYLIGHT
BEGIN:STANDARD
TZOFFSETFROM:+0200
TZOFFSETTO:+0100
TZNAME:CET
DTSTART:20261025T010000
END:STANDARD
BEGIN:DAYLIGHT
TZOFFSETFROM:+0100
TZOFFSETTO:+0200
TZNAME:CEST
DTSTART:20270328T010000
END:DAYLIGHT
BEGIN:STANDARD
TZOFFSETFROM:+0200
TZOFFSETTO:+0100
TZNAME:CET
DTSTART:20271031T010000
END:STANDARD
END:VTIMEZONE
BEGIN:VEVENT
DTSTART;TZID=Europe/Amsterdam:20260424T200000
DTEND;TZID=Europe/Amsterdam:20260424T200000
DTSTAMP:20260423T002204
CREATED:20220226T124959Z
LAST-MODIFIED:20260121T185742Z
UID:2015-1777060800-1777060800@www.mczv.nl
SUMMARY:Clubavond april
DESCRIPTION:We hebben onze clubavond op de laatste vrijdag van de maand met uitzondering van de maand december. \nDe clubavonden worden georganiseerd vanuit St. Albert in Sas van Gent. \nTijdens een clubavond zijn leden en motorrijders die lid willen worden van onze club welkom.
URL:https://www.mczv.nl/event/clubavond-9/
LOCATION:St. Albert Sas van Gent\, van Milstraat 2\, Sas van Gent\, 4551TD\, Nederland
END:VEVENT
END:VCALENDAR