BEGIN:VCALENDAR
VERSION:2.0
PRODID:-//Motorclub Zeeuws Vlaanderen - ECPv6.15.14//NONSGML v1.0//EN
CALSCALE:GREGORIAN
METHOD:PUBLISH
X-ORIGINAL-URL:https://www.mczv.nl
X-WR-CALDESC:Evenementen voor Motorclub Zeeuws Vlaanderen
REFRESH-INTERVAL;VALUE=DURATION:PT1H
X-Robots-Tag:noindex
X-PUBLISHED-TTL:PT1H
BEGIN:VTIMEZONE
TZID:Europe/Amsterdam
BEGIN:DAYLIGHT
TZOFFSETFROM:+0100
TZOFFSETTO:+0200
TZNAME:CEST
DTSTART:20250330T010000
END:DAYLIGHT
BEGIN:STANDARD
TZOFFSETFROM:+0200
TZOFFSETTO:+0100
TZNAME:CET
DTSTART:20251026T010000
END:STANDARD
BEGIN:DAYLIGHT
TZOFFSETFROM:+0100
TZOFFSETTO:+0200
TZNAME:CEST
DTSTART:20260329T010000
END:DAYLIGHT
BEGIN:STANDARD
TZOFFSETFROM:+0200
TZOFFSETTO:+0100
TZNAME:CET
DTSTART:20261025T010000
END:STANDARD
BEGIN:DAYLIGHT
TZOFFSETFROM:+0100
TZOFFSETTO:+0200
TZNAME:CEST
DTSTART:20270328T010000
END:DAYLIGHT
BEGIN:STANDARD
TZOFFSETFROM:+0200
TZOFFSETTO:+0100
TZNAME:CET
DTSTART:20271031T010000
END:STANDARD
END:VTIMEZONE
BEGIN:VEVENT
DTSTART;TZID=Europe/Amsterdam:20260208T130000
DTEND;TZID=Europe/Amsterdam:20260208T170000
DTSTAMP:20260420T205110
CREATED:20240201T205450Z
LAST-MODIFIED:20251130T215428Z
UID:982-1770555600-1770570000@www.mczv.nl
SUMMARY:MZV Snertrit (clubrit)
DESCRIPTION:Zondag 8 februari organiseren we de jaarlijkse MZV Snertrit.\nDe lengte is 100 km en we vertrekken om 13.00 uur bij ons clubgebouw St. Albert. \nLet op\, dit is een clubrit\, enkel voor leden en anderen die geïnteresseerd zijn in een lidmaatschap van onze club ter kennismaking.
URL:https://www.mczv.nl/event/mzv-snertrit/
LOCATION:St. Albert Sas van Gent\, van Milstraat 2\, Sas van Gent\, 4551TD\, Nederland
END:VEVENT
END:VCALENDAR